BEGIN:VCALENDAR
VERSION:2.0
PRODID:-//Chook Digital//Lido Cinemas//EN
BEGIN:VEVENT
DTSTAMP:20210227T112800Z
UID:no-reply@lidocinemas.com.au
DTSTART:20210903T140000Z
DTEND:20210903T154800Z
LOCATION:675 Glenferrie Road Hawthorn 3122
SUMMARY;LANGUAGE=en-au:Lido Cinemas: Women on the Verge of a Nervous Breakdown (1988)
DESCRIPTION:Women on the Verge of a Nervous Breakdown (1988)\nPepa resolves to kill herself with a batch of sleeping-pill-laced gazpacho after her lover leaves her. Fortunately, she is interrupted by a deliciously chaotic series of events.
X-ALT-DESC;FMTTYPE=text/html:<strong>Lido Cinemas: Women on the Verge of a Nervous Breakdown (1988)</strong><p>Pepa resolves to kill herself with a batch of sleeping-pill-laced gazpacho after her lover leaves her. Fortunately, she is interrupted by a deliciously chaotic series of events.</p>
END:VEVENT
END:VCALENDAR