BEGIN:VCALENDAR
VERSION:2.0
PRODID:-//Chook Digital//Lido Cinemas//EN
BEGIN:VEVENT
DTSTAMP:20210227T112655Z
UID:no-reply@lidocinemas.com.au
DTSTART:20210813T140000Z
DTEND:20210813T160200Z
LOCATION:675 Glenferrie Road Hawthorn 3122
SUMMARY;LANGUAGE=en-au:Lido Cinemas: What Have I Done to Deserve This? (1984)
DESCRIPTION:What Have I Done to Deserve This? (1984)\nA henpecked housewife ekes out a meager existence, surrounded by a host of colorful characters: her ungrateful husband, her delinquent sons, her headstrong mother-in-law, and her sex worker neighbor, among others.
X-ALT-DESC;FMTTYPE=text/html:<strong>Lido Cinemas: What Have I Done to Deserve This? (1984)</strong><p>A henpecked housewife ekes out a meager existence, surrounded by a host of colorful characters: her ungrateful husband, her delinquent sons, her headstrong mother-in-law, and her sex worker neighbor, among others.</p>
END:VEVENT
END:VCALENDAR