BEGIN:VCALENDAR
VERSION:2.0
PRODID:-//Chook Digital//Lido Cinemas//EN
BEGIN:VEVENT
DTSTAMP:20210227T113326Z
UID:no-reply@lidocinemas.com.au
DTSTART:20211208T130000Z
DTEND:20211208T130000Z
LOCATION:675 Glenferrie Road Hawthorn 3122
SUMMARY;LANGUAGE=en-au:Lido Cinemas: West Side Story
DESCRIPTION:West Side Story\nA remake of the 1961 film about two youngsters from rival New York City gangs fall in love, but tensions between their respective friends build toward tragedy.
X-ALT-DESC;FMTTYPE=text/html:<strong>Lido Cinemas: West Side Story</strong><p>A remake of the 1961 film about two youngsters from rival New York City gangs fall in love, but tensions between their respective friends build toward tragedy.</p>
END:VEVENT
END:VCALENDAR