BEGIN:VCALENDAR
VERSION:2.0
PRODID:-//Chook Digital//Lido Cinemas//EN
BEGIN:VEVENT
DTSTAMP:20210227T113142Z
UID:no-reply@lidocinemas.com.au
DTSTART:20211105T130000Z
DTEND:20211105T152100Z
LOCATION:675 Glenferrie Road Hawthorn 3122
SUMMARY;LANGUAGE=en-au:Lido Cinemas: Volver (2006)
DESCRIPTION:Volver (2006)\nRaimunda lives and works in Madrid with her husband Paco and their daughter Paula. Raimunda's sister Sole lives nearby. The two sisters miss their mother Irene who died several years ago in a house fire along with their father. When a former neighbor from their hometown reports that she has seen the ghost of Irene, the daughters do not believe her. After a murder and a family tragedy, however, Irene's spirit materializes around her daughters to comfort them.
X-ALT-DESC;FMTTYPE=text/html:<strong>Lido Cinemas: Volver (2006)</strong><p>Raimunda lives and works in Madrid with her husband Paco and their daughter Paula. Raimunda's sister Sole lives nearby. The two sisters miss their mother Irene who died several years ago in a house fire along with their father. When a former neighbor from their hometown reports that she has seen the ghost of Irene, the daughters do not believe her. After a murder and a family tragedy, however, Irene's spirit materializes around her daughters to comfort them.</p>
END:VEVENT
END:VCALENDAR