BEGIN:VCALENDAR
VERSION:2.0
PRODID:-//Chook Digital//Lido Cinemas//EN
BEGIN:VEVENT
DTSTAMP:20210227T113216Z
UID:no-reply@lidocinemas.com.au
DTSTART:20211113T130000Z
DTEND:20211113T152800Z
LOCATION:675 Glenferrie Road Hawthorn 3122
SUMMARY;LANGUAGE=en-au:Lido Cinemas: Vertigo (1958)
DESCRIPTION:Vertigo (1958)\nA retired San Francisco detective suffering from acrophobia investigates the strange activities of an old friend's wife, all the while becoming dangerously obsessed with her.
X-ALT-DESC;FMTTYPE=text/html:<strong>Lido Cinemas: Vertigo (1958)</strong><p>A retired San Francisco detective suffering from acrophobia investigates the strange activities of an old friend's wife, all the while becoming dangerously obsessed with her.</p>
END:VEVENT
END:VCALENDAR