BEGIN:VCALENDAR
VERSION:2.0
PRODID:-//Chook Digital//Lido Cinemas//EN
BEGIN:VEVENT
DTSTAMP:20210227T113353Z
UID:no-reply@lidocinemas.com.au
DTSTART:20211218T130000Z
DTEND:20211218T152800Z
LOCATION:675 Glenferrie Road Hawthorn 3122
SUMMARY;LANGUAGE=en-au:Lido Cinemas: Torn Curtain (1966)
DESCRIPTION:Torn Curtain (1966)\nDuring the Cold War, an American scientist appears to defect to East Germany as part of a cloak and dagger mission to find the formula for a resin solution, but the plan goes awry when his fiancee, unaware of his motivation, follows him across the border.
X-ALT-DESC;FMTTYPE=text/html:<strong>Lido Cinemas: Torn Curtain (1966)</strong><p>During the Cold War, an American scientist appears to defect to East Germany as part of a cloak and dagger mission to find the formula for a resin solution, but the plan goes awry when his fiancee, unaware of his motivation, follows him across the border.</p>
END:VEVENT
END:VCALENDAR