BEGIN:VCALENDAR
VERSION:2.0
PRODID:-//Chook Digital//Lido Cinemas//EN
BEGIN:VEVENT
DTSTAMP:20210227T113401Z
UID:no-reply@lidocinemas.com.au
DTSTART:20220101T130000Z
DTEND:20220101T154300Z
LOCATION:675 Glenferrie Road Hawthorn 3122
SUMMARY;LANGUAGE=en-au:Lido Cinemas: Topaz (1969)
DESCRIPTION:Topaz (1969)\nA French intelligence agent becomes embroiled in the Cold War politics first with uncovering the events leading up to the 1962 Cuban Missle Crisis, and then back to France to break up an international Russian spy ring.
X-ALT-DESC;FMTTYPE=text/html:<strong>Lido Cinemas: Topaz (1969)</strong><p>A French intelligence agent becomes embroiled in the Cold War politics first with uncovering the events leading up to the 1962 Cuban Missle Crisis, and then back to France to break up an international Russian spy ring.</p>
END:VEVENT
END:VCALENDAR