BEGIN:VCALENDAR
VERSION:2.0
PRODID:-//Chook Digital//Lido Cinemas//EN
BEGIN:VEVENT
DTSTAMP:20210227T113046Z
UID:no-reply@lidocinemas.com.au
DTSTART:20211016T130000Z
DTEND:20211016T150600Z
LOCATION:675 Glenferrie Road Hawthorn 3122
SUMMARY;LANGUAGE=en-au:Lido Cinemas: To Catch a Thief (1955)
DESCRIPTION:To Catch a Thief (1955)\nTo prevent being accused of the crimes, an ex-burglar must catch a thief who’s been copying his style.
X-ALT-DESC;FMTTYPE=text/html:<strong>Lido Cinemas: To Catch a Thief (1955)</strong><p>To prevent being accused of the crimes, an ex-burglar must catch a thief who’s been copying his style.</p>
END:VEVENT
END:VCALENDAR