BEGIN:VCALENDAR
VERSION:2.0
PRODID:-//Chook Digital//Lido Cinemas//EN
BEGIN:VEVENT
DTSTAMP:20210227T112838Z
UID:no-reply@lidocinemas.com.au
DTSTART:20210910T140000Z
DTEND:20210910T160200Z
LOCATION:675 Glenferrie Road Hawthorn 3122
SUMMARY;LANGUAGE=en-au:Lido Cinemas: Tie Me Up! Tie Me Down! (1990)
DESCRIPTION:Tie Me Up! Tie Me Down! (1990)\nRecently released from a mental hospital, Ricky ties up Marina, a film star he once had sex with and keeps her hostage.
X-ALT-DESC;FMTTYPE=text/html:<strong>Lido Cinemas: Tie Me Up! Tie Me Down! (1990)</strong><p>Recently released from a mental hospital, Ricky ties up Marina, a film star he once had sex with and keeps her hostage.</p>
END:VEVENT
END:VCALENDAR