BEGIN:VCALENDAR
VERSION:2.0
PRODID:-//Chook Digital//Lido Cinemas//EN
BEGIN:VEVENT
DTSTAMP:20210227T113132Z
UID:no-reply@lidocinemas.com.au
DTSTART:20211030T130000Z
DTEND:20211030T150500Z
LOCATION:675 Glenferrie Road Hawthorn 3122
SUMMARY;LANGUAGE=en-au:Lido Cinemas: The Wrong Man (1956)
DESCRIPTION:The Wrong Man (1956)\nTrue story of an innocent man mistaken for a criminal.
X-ALT-DESC;FMTTYPE=text/html:<strong>Lido Cinemas: The Wrong Man (1956)</strong><p>True story of an innocent man mistaken for a criminal.</p>
END:VEVENT
END:VCALENDAR