BEGIN:VCALENDAR
VERSION:2.0
PRODID:-//Chook Digital//Lido Cinemas//EN
BEGIN:VEVENT
DTSTAMP:20210227T113108Z
UID:no-reply@lidocinemas.com.au
DTSTART:20211023T130000Z
DTEND:20211023T145900Z
LOCATION:675 Glenferrie Road Hawthorn 3122
SUMMARY;LANGUAGE=en-au:Lido Cinemas: The Trouble with Harry (1955)
DESCRIPTION:The Trouble with Harry (1955)\nTrouble erupts in a small, quiet New England town when a man's body is found in the woods. The problem is that almost everyone in town thinks that they had something to do with his death.
X-ALT-DESC;FMTTYPE=text/html:<strong>Lido Cinemas: The Trouble with Harry (1955)</strong><p>Trouble erupts in a small, quiet New England town when a man's body is found in the woods. The problem is that almost everyone in town thinks that they had something to do with his death.</p>
END:VEVENT
END:VCALENDAR