BEGIN:VCALENDAR
VERSION:2.0
PRODID:-//Chook Digital//Lido Cinemas//EN
BEGIN:VEVENT
DTSTAMP:20210227T113225Z
UID:no-reply@lidocinemas.com.au
DTSTART:20211119T130000Z
DTEND:20211119T152000Z
LOCATION:675 Glenferrie Road Hawthorn 3122
SUMMARY;LANGUAGE=en-au:Lido Cinemas: The Skin I Live In (2011)
DESCRIPTION:The Skin I Live In (2011)\nA brilliant plastic surgeon creates a synthetic skin that withstands any kind of damage. His guinea pig: a mysterious and volatile woman who holds the key to his obsession.
X-ALT-DESC;FMTTYPE=text/html:<strong>Lido Cinemas: The Skin I Live In (2011)</strong><p>A brilliant plastic surgeon creates a synthetic skin that withstands any kind of damage. His guinea pig: a mysterious and volatile woman who holds the key to his obsession.</p>
END:VEVENT
END:VCALENDAR