BEGIN:VCALENDAR
VERSION:2.0
PRODID:-//Chook Digital//Lido Cinemas//EN
BEGIN:VEVENT
DTSTAMP:20210227T114332Z
UID:no-reply@lidocinemas.com.au
DTSTART:20210801T140000Z
DTEND:20210801T162000Z
LOCATION:675 Glenferrie Road Hawthorn 3122
SUMMARY;LANGUAGE=en-au:Lido Cinemas: The Seduction of Mimi (1972)
DESCRIPTION:The Seduction of Mimi (1972)\nVoting against the Mafia in what he thinks is a secret ballot costs Sicilian laborer Mimi his livelihood. He leaves his wife, flees to Turin and romances a Communist organizer - but he just can’t shake the Mafia. When they lure Mimi back to Sicily with a better job, he must keep his lover – and love child – under wraps. That’s when his wife announces she’s pregnant.
X-ALT-DESC;FMTTYPE=text/html:<strong>Lido Cinemas: The Seduction of Mimi (1972)</strong><p>Voting against the Mafia in what he thinks is a secret ballot costs Sicilian laborer Mimi his livelihood. He leaves his wife, flees to Turin and romances a Communist organizer - but he just can’t shake the Mafia. When they lure Mimi back to Sicily with a better job, he must keep his lover – and love child – under wraps. That’s when his wife announces she’s pregnant.</p>
END:VEVENT
END:VCALENDAR