BEGIN:VCALENDAR
VERSION:2.0
PRODID:-//Chook Digital//Lido Cinemas//EN
BEGIN:VEVENT
DTSTAMP:20210227T113150Z
UID:no-reply@lidocinemas.com.au
DTSTART:20211106T130000Z
DTEND:20211106T152000Z
LOCATION:675 Glenferrie Road Hawthorn 3122
SUMMARY;LANGUAGE=en-au:Lido Cinemas: The Man Who Knew Too Much (1956)
DESCRIPTION:The Man Who Knew Too Much (1956)\nA widescreen, Technicolor remake by Hitchcock of his 1934 film of the same title. A couple (James Stewart, Doris Day) vacationing in Morocco with their young son accidentally stumble upon an assassination plot. When the child is kidnapped to ensure their silence, they have to take matters into their own hands to save him.
X-ALT-DESC;FMTTYPE=text/html:<strong>Lido Cinemas: The Man Who Knew Too Much (1956)</strong><p>A widescreen, Technicolor remake by Hitchcock of his 1934 film of the same title. A couple (James Stewart, Doris Day) vacationing in Morocco with their young son accidentally stumble upon an assassination plot. When the child is kidnapped to ensure their silence, they have to take matters into their own hands to save him.</p>
END:VEVENT
END:VCALENDAR