BEGIN:VCALENDAR
VERSION:2.0
PRODID:-//Chook Digital//Lido Cinemas//EN
BEGIN:VEVENT
DTSTAMP:20210227T114336Z
UID:no-reply@lidocinemas.com.au
DTSTART:20210725T140000Z
DTEND:20210725T154500Z
LOCATION:675 Glenferrie Road Hawthorn 3122
SUMMARY;LANGUAGE=en-au:Lido Cinemas: The Lizards (1963)
DESCRIPTION:The Lizards (1963)\nThe neorealistic story follows the uneventful lives of Francesco, Sergio and Antonio, three young men, who live in a small, poverty-stricken village. Since all three are unemployed they while their time away roaming the streets and chasing girls. One day Antonio's aunt asks him to stay with her and his cousins in Rome. He accepts her offer and enrolls at a university in Rome leaving his two friends behind who envy him for his new upscale lifestyle. But eventually Antonio returns to the village, initially just for a day. Though he boasts about his life, he never goes back to Rome and instead opts for his friends and the place he grew up in, despite all its shortcomings.
X-ALT-DESC;FMTTYPE=text/html:<strong>Lido Cinemas: The Lizards (1963)</strong><p>The neorealistic story follows the uneventful lives of Francesco, Sergio and Antonio, three young men, who live in a small, poverty-stricken village. Since all three are unemployed they while their time away roaming the streets and chasing girls. One day Antonio's aunt asks him to stay with her and his cousins in Rome. He accepts her offer and enrolls at a university in Rome leaving his two friends behind who envy him for his new upscale lifestyle. But eventually Antonio returns to the village, initially just for a day. Though he boasts about his life, he never goes back to Rome and instead opts for his friends and the place he grew up in, despite all its shortcomings.</p>
END:VEVENT
END:VCALENDAR