BEGIN:VCALENDAR
VERSION:2.0
PRODID:-//Chook Digital//Lido Cinemas//EN
BEGIN:VEVENT
DTSTAMP:20210227T112713Z
UID:no-reply@lidocinemas.com.au
DTSTART:20210818T140000Z
DTEND:20210818T162000Z
LOCATION:675 Glenferrie Road Hawthorn 3122
SUMMARY;LANGUAGE=en-au:Lido Cinemas: The King's Man
DESCRIPTION:The King's Man\nAs a collection of history's worst tyrants and criminal masterminds gather to plot a war to wipe out millions, one man must race against time to stop them.
X-ALT-DESC;FMTTYPE=text/html:<strong>Lido Cinemas: The King's Man</strong><p>As a collection of history's worst tyrants and criminal masterminds gather to plot a war to wipe out millions, one man must race against time to stop them.</p>
END:VEVENT
END:VCALENDAR