BEGIN:VCALENDAR
VERSION:2.0
PRODID:-//Chook Digital//Lido Cinemas//EN
BEGIN:VEVENT
DTSTAMP:20210227T113116Z
UID:no-reply@lidocinemas.com.au
DTSTART:20211028T130000Z
DTEND:20211028T130000Z
LOCATION:675 Glenferrie Road Hawthorn 3122
SUMMARY;LANGUAGE=en-au:Lido Cinemas: The Empty Man
DESCRIPTION:The Empty Man\nOn the trail of a missing girl, an ex-cop comes across a secretive group attempting to summon a terrifying supernatural entity.
X-ALT-DESC;FMTTYPE=text/html:<strong>Lido Cinemas: The Empty Man</strong><p>On the trail of a missing girl, an ex-cop comes across a secretive group attempting to summon a terrifying supernatural entity.</p>
END:VEVENT
END:VCALENDAR