BEGIN:VCALENDAR
VERSION:2.0
PRODID:-//Chook Digital//Lido Cinemas//EN
BEGIN:VEVENT
DTSTAMP:20210227T112816Z
UID:no-reply@lidocinemas.com.au
DTSTART:20210908T140000Z
DTEND:20210908T140000Z
LOCATION:675 Glenferrie Road Hawthorn 3122
SUMMARY;LANGUAGE=en-au:Lido Cinemas: The Boss Baby: Family Business
DESCRIPTION:The Boss Baby: Family Business\nTempleton brothers — Tim and his Boss Baby little bro Ted — are now adults who have drifted away from each other. Tim is a married dad and Ted is a hedge fund CEO. But a new boss baby with a cutting-edge approach and a can-do attitude is about to bring them together again and inspire a new family business.
X-ALT-DESC;FMTTYPE=text/html:<strong>Lido Cinemas: The Boss Baby: Family Business</strong><p>Templeton brothers — Tim and his Boss Baby little bro Ted — are now adults who have drifted away from each other. Tim is a married dad and Ted is a hedge fund CEO. But a new boss baby with a cutting-edge approach and a can-do attitude is about to bring them together again and inspire a new family business.</p>
END:VEVENT
END:VCALENDAR