BEGIN:VCALENDAR
VERSION:2.0
PRODID:-//Chook Digital//Lido Cinemas//EN
BEGIN:VEVENT
DTSTAMP:20210227T112752Z
UID:no-reply@lidocinemas.com.au
DTSTART:20210901T140000Z
DTEND:20210901T140000Z
LOCATION:675 Glenferrie Road Hawthorn 3122
SUMMARY;LANGUAGE=en-au:Lido Cinemas: The Beatles: Get Back
DESCRIPTION:The Beatles: Get Back\nA new Beatles documentary using the 55 hours of in-studio footage that were shot in early 1969 for the 1970 feature film “Let It Be.”
X-ALT-DESC;FMTTYPE=text/html:<strong>Lido Cinemas: The Beatles: Get Back</strong><p>A new Beatles documentary using the 55 hours of in-studio footage that were shot in early 1969 for the 1970 feature film “Let It Be.”</p>
END:VEVENT
END:VCALENDAR