BEGIN:VCALENDAR
VERSION:2.0
PRODID:-//Chook Digital//Lido Cinemas//EN
BEGIN:VEVENT
DTSTAMP:20210227T112824Z
UID:no-reply@lidocinemas.com.au
DTSTART:20210909T140000Z
DTEND:20210909T155800Z
LOCATION:675 Glenferrie Road Hawthorn 3122
SUMMARY;LANGUAGE=en-au:Lido Cinemas: Tank Girl (1995)
DESCRIPTION:Tank Girl (1995)\nBased on the British cult comic-strip, our tank-riding anti-heroine fights a mega-corporation, which controls the world's water supply.
X-ALT-DESC;FMTTYPE=text/html:<strong>Lido Cinemas: Tank Girl (1995)</strong><p>Based on the British cult comic-strip, our tank-riding anti-heroine fights a mega-corporation, which controls the world's water supply.</p>
END:VEVENT
END:VCALENDAR