BEGIN:VCALENDAR
VERSION:2.0
PRODID:-//Chook Digital//Lido Cinemas//EN
BEGIN:VEVENT
DTSTAMP:20210227T113101Z
UID:no-reply@lidocinemas.com.au
DTSTART:20211022T130000Z
DTEND:20211022T151200Z
LOCATION:675 Glenferrie Road Hawthorn 3122
SUMMARY;LANGUAGE=en-au:Lido Cinemas: Talk to Her (2002)
DESCRIPTION:Talk to Her (2002)\nTwo men share an odd friendship while they care for two women who are both in deep comas.
X-ALT-DESC;FMTTYPE=text/html:<strong>Lido Cinemas: Talk to Her (2002)</strong><p>Two men share an odd friendship while they care for two women who are both in deep comas.</p>
END:VEVENT
END:VCALENDAR