BEGIN:VCALENDAR
VERSION:2.0
PRODID:-//Chook Digital//Lido Cinemas//EN
BEGIN:VEVENT
DTSTAMP:20210227T114321Z
UID:no-reply@lidocinemas.com.au
DTSTART:20210822T140000Z
DTEND:20210822T161600Z
LOCATION:675 Glenferrie Road Hawthorn 3122
SUMMARY;LANGUAGE=en-au:Lido Cinemas: Swept Away (1974)
DESCRIPTION:Swept Away (1974)\nA spoiled rich woman and a brutish Communist deckhand become stranded alone on a desert island after venturing away from their cruise.
X-ALT-DESC;FMTTYPE=text/html:<strong>Lido Cinemas: Swept Away (1974)</strong><p>A spoiled rich woman and a brutish Communist deckhand become stranded alone on a desert island after venturing away from their cruise.</p>
END:VEVENT
END:VCALENDAR