BEGIN:VCALENDAR
VERSION:2.0
PRODID:-//Chook Digital//Lido Cinemas//EN
BEGIN:VEVENT
DTSTAMP:20210227T114005Z
UID:no-reply@lidocinemas.com.au
DTSTART:20210610T140000Z
DTEND:20210610T160400Z
LOCATION:675 Glenferrie Road Hawthorn 3122
SUMMARY;LANGUAGE=en-au:Lido Cinemas: Super Mario Bros. (1993)
DESCRIPTION:Super Mario Bros. (1993)\nMario and Luigi, plumbers from Brooklyn, find themselves in an alternate universe where evolved dinosaurs live in hi-tech squalor. They're the only hope to save our universe from invasion by the dino dictator, Koopa.
X-ALT-DESC;FMTTYPE=text/html:<strong>Lido Cinemas: Super Mario Bros. (1993)</strong><p>Mario and Luigi, plumbers from Brooklyn, find themselves in an alternate universe where evolved dinosaurs live in hi-tech squalor. They're the only hope to save our universe from invasion by the dino dictator, Koopa.</p>
END:VEVENT
END:VCALENDAR