BEGIN:VCALENDAR
VERSION:2.0
PRODID:-//Chook Digital//Lido Cinemas//EN
BEGIN:VEVENT
DTSTAMP:20210227T112743Z
UID:no-reply@lidocinemas.com.au
DTSTART:20210828T140000Z
DTEND:20210828T160800Z
LOCATION:675 Glenferrie Road Hawthorn 3122
SUMMARY;LANGUAGE=en-au:Lido Cinemas: Shadow of a Doubt (1943)
DESCRIPTION:Shadow of a Doubt (1943)\nA bored teen living in Santa Rosa, California, Charlotte "Charlie" Newton, is frustrated because nothing seems to be happening in her life and that of her family. Then, she receives wonderful news: her uncle (for whom she was named), Charlie Oakley, is arriving for a visit. But Uncle Charlie may not be the man he seems to be.
X-ALT-DESC;FMTTYPE=text/html:<strong>Lido Cinemas: Shadow of a Doubt (1943)</strong><p>A bored teen living in Santa Rosa, California, Charlotte "Charlie" Newton, is frustrated because nothing seems to be happening in her life and that of her family. Then, she receives wonderful news: her uncle (for whom she was named), Charlie Oakley, is arriving for a visit. But Uncle Charlie may not be the man he seems to be.</p>
END:VEVENT
END:VCALENDAR