BEGIN:VCALENDAR
VERSION:2.0
PRODID:-//Chook Digital//Lido Cinemas//EN
BEGIN:VEVENT
DTSTAMP:20210227T112727Z
UID:no-reply@lidocinemas.com.au
DTSTART:20210821T140000Z
DTEND:20210821T160900Z
LOCATION:675 Glenferrie Road Hawthorn 3122
SUMMARY;LANGUAGE=en-au:Lido Cinemas: Saboteur (1942)
DESCRIPTION:Saboteur (1942)\nAircraft factory worker Barry Kane goes on the run across the United States when he is wrongly accused of starting a fire that killed his best friend.
X-ALT-DESC;FMTTYPE=text/html:<strong>Lido Cinemas: Saboteur (1942)</strong><p>Aircraft factory worker Barry Kane goes on the run across the United States when he is wrongly accused of starting a fire that killed his best friend.</p>
END:VEVENT
END:VCALENDAR