BEGIN:VCALENDAR
VERSION:2.0
PRODID:-//Chook Digital//Lido Cinemas//EN
BEGIN:VEVENT
DTSTAMP:20210227T112808Z
UID:no-reply@lidocinemas.com.au
DTSTART:20210904T140000Z
DTEND:20210904T154000Z
LOCATION:675 Glenferrie Road Hawthorn 3122
SUMMARY;LANGUAGE=en-au:Lido Cinemas: Rope (1948)
DESCRIPTION:Rope (1948)\nTwo young men strangle their "inferior" classmate, hide his body in their apartment, and invite his friends and family to a dinner party as a means to challenge the "perfection" of their crime.
X-ALT-DESC;FMTTYPE=text/html:<strong>Lido Cinemas: Rope (1948)</strong><p>Two young men strangle their "inferior" classmate, hide his body in their apartment, and invite his friends and family to a dinner party as a means to challenge the "perfection" of their crime.</p>
END:VEVENT
END:VCALENDAR