BEGIN:VCALENDAR
VERSION:2.0
PRODID:-//Chook Digital//Lido Cinemas//EN
BEGIN:VEVENT
DTSTAMP:20210227T113259Z
UID:no-reply@lidocinemas.com.au
DTSTART:20211127T130000Z
DTEND:20211127T150900Z
LOCATION:675 Glenferrie Road Hawthorn 3122
SUMMARY;LANGUAGE=en-au:Lido Cinemas: Psycho (1960)
DESCRIPTION:Psycho (1960)\nWhen larcenous real estate clerk Marion Crane goes on the lam with a wad of cash and hopes of starting a new life, she ends up at the notorious Bates Motel, where manager Norman Bates cares for his housebound mother. The place seems quirky, but fine… until Marion decides to take a shower.
X-ALT-DESC;FMTTYPE=text/html:<strong>Lido Cinemas: Psycho (1960)</strong><p>When larcenous real estate clerk Marion Crane goes on the lam with a wad of cash and hopes of starting a new life, she ends up at the notorious Bates Motel, where manager Norman Bates cares for his housebound mother. The place seems quirky, but fine… until Marion decides to take a shower.</p>
END:VEVENT
END:VCALENDAR