BEGIN:VCALENDAR
VERSION:2.0
PRODID:-//Chook Digital//Lido Cinemas//EN
BEGIN:VEVENT
DTSTAMP:20210227T113234Z
UID:no-reply@lidocinemas.com.au
DTSTART:20211120T130000Z
DTEND:20211120T153600Z
LOCATION:675 Glenferrie Road Hawthorn 3122
SUMMARY;LANGUAGE=en-au:Lido Cinemas: North by Northwest (1959)
DESCRIPTION:North by Northwest (1959)\nAdvertising man Roger Thornhill is mistaken for a spy, triggering a deadly cross-country chase.
X-ALT-DESC;FMTTYPE=text/html:<strong>Lido Cinemas: North by Northwest (1959)</strong><p>Advertising man Roger Thornhill is mistaken for a spy, triggering a deadly cross-country chase.</p>
END:VEVENT
END:VCALENDAR