BEGIN:VCALENDAR
VERSION:2.0
PRODID:-//Chook Digital//Lido Cinemas//EN
BEGIN:VEVENT
DTSTAMP:20210227T112959Z
UID:no-reply@lidocinemas.com.au
DTSTART:20211006T130000Z
DTEND:20211006T130000Z
LOCATION:675 Glenferrie Road Hawthorn 3122
SUMMARY;LANGUAGE=en-au:Lido Cinemas: Morbius
DESCRIPTION:Morbius\nDangerously ill with a rare blood disorder, and determined to save others suffering his same fate, Dr. Morbius attempts a desperate gamble. What at first appears to be a radical success soon reveals itself to be a remedy potentially worse than the disease.
X-ALT-DESC;FMTTYPE=text/html:<strong>Lido Cinemas: Morbius</strong><p>Dangerously ill with a rare blood disorder, and determined to save others suffering his same fate, Dr. Morbius attempts a desperate gamble. What at first appears to be a radical success soon reveals itself to be a remedy potentially worse than the disease.</p>
END:VEVENT
END:VCALENDAR