BEGIN:VCALENDAR
VERSION:2.0
PRODID:-//Chook Digital//Lido Cinemas//EN
BEGIN:VEVENT
DTSTAMP:20210227T113340Z
UID:no-reply@lidocinemas.com.au
DTSTART:20211211T130000Z
DTEND:20211211T153000Z
LOCATION:675 Glenferrie Road Hawthorn 3122
SUMMARY;LANGUAGE=en-au:Lido Cinemas: Marnie (1964)
DESCRIPTION:Marnie (1964)\nMarnie is a beautiful kleptomaniac who is in love with businessman Mark Rutland. Marnie who is a compulsive thief is being watched by her new boss Mark who suspects her of stealing from him and thus decides to blackmail her in the most unusual way. A psychological thriller from Alfred Hitchcock based on a novel of the same name by Winston Graham.
X-ALT-DESC;FMTTYPE=text/html:<strong>Lido Cinemas: Marnie (1964)</strong><p>Marnie is a beautiful kleptomaniac who is in love with businessman Mark Rutland. Marnie who is a compulsive thief is being watched by her new boss Mark who suspects her of stealing from him and thus decides to blackmail her in the most unusual way. A psychological thriller from Alfred Hitchcock based on a novel of the same name by Winston Graham.</p>
END:VEVENT
END:VCALENDAR