BEGIN:VCALENDAR
VERSION:2.0
PRODID:-//Chook Digital//Lido Cinemas//EN
BEGIN:VEVENT
DTSTAMP:20210227T112832Z
UID:no-reply@lidocinemas.com.au
DTSTART:20210910T140000Z
DTEND:20210910T154000Z
LOCATION:675 Glenferrie Road Hawthorn 3122
SUMMARY;LANGUAGE=en-au:Lido Cinemas: Lucian Freud: A Self Portrait
DESCRIPTION:Lucian Freud: A Self Portrait\n
X-ALT-DESC;FMTTYPE=text/html:<strong>Lido Cinemas: Lucian Freud: A Self Portrait</strong><p></p>
END:VEVENT
END:VCALENDAR