BEGIN:VCALENDAR
VERSION:2.0
PRODID:-//Chook Digital//Lido Cinemas//EN
BEGIN:VEVENT
DTSTAMP:20210227T114327Z
UID:no-reply@lidocinemas.com.au
DTSTART:20210808T140000Z
DTEND:20210808T162600Z
LOCATION:675 Glenferrie Road Hawthorn 3122
SUMMARY;LANGUAGE=en-au:Lido Cinemas: Love and Anarchy (1973)
DESCRIPTION:Love and Anarchy (1973)\nSet in Fascist Italy before the outbreak of World War II, the story centers on Tunin, a farmer turned anarchist who stays in a brothel while preparing to kill Benito Mussolini.  There he falls in love with one of the whores.
X-ALT-DESC;FMTTYPE=text/html:<strong>Lido Cinemas: Love and Anarchy (1973)</strong><p>Set in Fascist Italy before the outbreak of World War II, the story centers on Tunin, a farmer turned anarchist who stays in a brothel while preparing to kill Benito Mussolini.  There he falls in love with one of the whores.</p>
END:VEVENT
END:VCALENDAR