BEGIN:VCALENDAR
VERSION:2.0
PRODID:-//Chook Digital//Lido Cinemas//EN
BEGIN:VEVENT
DTSTAMP:20210227T113024Z
UID:no-reply@lidocinemas.com.au
DTSTART:20211008T130000Z
DTEND:20211008T150300Z
LOCATION:675 Glenferrie Road Hawthorn 3122
SUMMARY;LANGUAGE=en-au:Lido Cinemas: Live Flesh (1997)
DESCRIPTION:Live Flesh (1997)\nA scorned ex-convict forces himself into the lives of the couple who put him behind bars.
X-ALT-DESC;FMTTYPE=text/html:<strong>Lido Cinemas: Live Flesh (1997)</strong><p>A scorned ex-convict forces himself into the lives of the couple who put him behind bars.</p>
END:VEVENT
END:VCALENDAR