BEGIN:VCALENDAR
VERSION:2.0
PRODID:-//Chook Digital//Lido Cinemas//EN
BEGIN:VEVENT
DTSTAMP:20210227T112735Z
UID:no-reply@lidocinemas.com.au
DTSTART:20210827T140000Z
DTEND:20210827T160200Z
LOCATION:675 Glenferrie Road Hawthorn 3122
SUMMARY;LANGUAGE=en-au:Lido Cinemas: Law of Desire (1987)
DESCRIPTION:Law of Desire (1987)\nPablo, a successful film director, disappointed in his relationship with his young lover, Juan, concentrates in a new project, a monologue starring his transgender sister, Tina. Antonio, an uptight young man, falls possessively in love with the director and in his passion would stop at nothing to obtain the object of his desire.
X-ALT-DESC;FMTTYPE=text/html:<strong>Lido Cinemas: Law of Desire (1987)</strong><p>Pablo, a successful film director, disappointed in his relationship with his young lover, Juan, concentrates in a new project, a monologue starring his transgender sister, Tina. Antonio, an uptight young man, falls possessively in love with the director and in his passion would stop at nothing to obtain the object of his desire.</p>
END:VEVENT
END:VCALENDAR