BEGIN:VCALENDAR
VERSION:2.0
PRODID:-//Chook Digital//Lido Cinemas//EN
BEGIN:VEVENT
DTSTAMP:20210227T113053Z
UID:no-reply@lidocinemas.com.au
DTSTART:20211020T130000Z
DTEND:20211020T130000Z
LOCATION:675 Glenferrie Road Hawthorn 3122
SUMMARY;LANGUAGE=en-au:Lido Cinemas: Last Night in Soho
DESCRIPTION:Last Night in Soho\nA young girl, passionate about fashion design, is mysteriously able to enter the 1960s where she encounters her idol, a dazzling wannabe singer. But 1960s London is not what it seems, and time seems to be falling apart with shady consequences.
X-ALT-DESC;FMTTYPE=text/html:<strong>Lido Cinemas: Last Night in Soho</strong><p>A young girl, passionate about fashion design, is mysteriously able to enter the 1960s where she encounters her idol, a dazzling wannabe singer. But 1960s London is not what it seems, and time seems to be falling apart with shady consequences.</p>
END:VEVENT
END:VCALENDAR