BEGIN:VCALENDAR
VERSION:2.0
PRODID:-//Chook Digital//Lido Cinemas//EN
BEGIN:VEVENT
DTSTAMP:20210227T112923Z
UID:no-reply@lidocinemas.com.au
DTSTART:20210924T140000Z
DTEND:20210924T161700Z
LOCATION:675 Glenferrie Road Hawthorn 3122
SUMMARY;LANGUAGE=en-au:Lido Cinemas: Kika (1993)
DESCRIPTION:Kika (1993)\nKika, a young cosmetologist, is called to the mansion of Nicolas, an American writer to make-up the corpse of his stepson, Ramon. Ramon, who is not dead, is revived by Kika's attentions and she then moves in with him. They might live happily ever after but first they have to cope with Kika's affair with Nicolas, the suspicious death of Ramon's mother and the intrusive gaze of tabloid-TV star and Ramon's ex-psychologist Andrea Scarface.
X-ALT-DESC;FMTTYPE=text/html:<strong>Lido Cinemas: Kika (1993)</strong><p>Kika, a young cosmetologist, is called to the mansion of Nicolas, an American writer to make-up the corpse of his stepson, Ramon. Ramon, who is not dead, is revived by Kika's attentions and she then moves in with him. They might live happily ever after but first they have to cope with Kika's affair with Nicolas, the suspicious death of Ramon's mother and the intrusive gaze of tabloid-TV star and Ramon's ex-psychologist Andrea Scarface.</p>
END:VEVENT
END:VCALENDAR