BEGIN:VCALENDAR
VERSION:2.0
PRODID:-//Chook Digital//Lido Cinemas//EN
BEGIN:VEVENT
DTSTAMP:20210227T113308Z
UID:no-reply@lidocinemas.com.au
DTSTART:20211203T130000Z
DTEND:20211203T145600Z
LOCATION:675 Glenferrie Road Hawthorn 3122
SUMMARY;LANGUAGE=en-au:Lido Cinemas: Julieta (2016)
DESCRIPTION:Julieta (2016)\nThe film spans 30 years in Julieta’s life from a nostalgic 1985 where everything seems hopeful, to 2015 where her life appears to be beyond repair and she is on the verge of madness.
X-ALT-DESC;FMTTYPE=text/html:<strong>Lido Cinemas: Julieta (2016)</strong><p>The film spans 30 years in Julieta’s life from a nostalgic 1985 where everything seems hopeful, to 2015 where her life appears to be beyond repair and she is on the verge of madness.</p>
END:VEVENT
END:VCALENDAR