BEGIN:VCALENDAR
VERSION:2.0
PRODID:-//Chook Digital//Lido Cinemas//EN
BEGIN:VEVENT
DTSTAMP:20210227T113251Z
UID:no-reply@lidocinemas.com.au
DTSTART:20211126T130000Z
DTEND:20211126T145000Z
LOCATION:675 Glenferrie Road Hawthorn 3122
SUMMARY;LANGUAGE=en-au:Lido Cinemas: I’m So Excited (2013)
DESCRIPTION:I’m So Excited (2013)\nThe film is an ensemble comedy written and directed by Pedro Almodóvar. When it appears as though the end is in sight, the pilots, flight crew, and passengers of a plane heading to Mexico City look to forget the anguish of the moment and face the greatest danger, which we carry within ourselves.
X-ALT-DESC;FMTTYPE=text/html:<strong>Lido Cinemas: I’m So Excited (2013)</strong><p>The film is an ensemble comedy written and directed by Pedro Almodóvar. When it appears as though the end is in sight, the pilots, flight crew, and passengers of a plane heading to Mexico City look to forget the anguish of the moment and face the greatest danger, which we carry within ourselves.</p>
END:VEVENT
END:VCALENDAR