BEGIN:VCALENDAR
VERSION:2.0
PRODID:-//Chook Digital//Lido Cinemas//EN
BEGIN:VEVENT
DTSTAMP:20210227T112931Z
UID:no-reply@lidocinemas.com.au
DTSTART:20210925T140000Z
DTEND:20210925T155500Z
LOCATION:675 Glenferrie Road Hawthorn 3122
SUMMARY;LANGUAGE=en-au:Lido Cinemas: I Confess (1953)
DESCRIPTION:I Confess (1953)\nUnable, due to the seal of the confessional, to be forthcoming with information that would serve to clear himself during a murder investigation, a priest becomes the prime suspect.
X-ALT-DESC;FMTTYPE=text/html:<strong>Lido Cinemas: I Confess (1953)</strong><p>Unable, due to the seal of the confessional, to be forthcoming with information that would serve to clear himself during a murder investigation, a priest becomes the prime suspect.</p>
END:VEVENT
END:VCALENDAR