BEGIN:VCALENDAR
VERSION:2.0
PRODID:-//Chook Digital//Lido Cinemas//EN
BEGIN:VEVENT
DTSTAMP:20210227T113016Z
UID:no-reply@lidocinemas.com.au
DTSTART:20211007T130000Z
DTEND:20211007T151000Z
LOCATION:675 Glenferrie Road Hawthorn 3122
SUMMARY;LANGUAGE=en-au:Lido Cinemas: Howard the Duck (1986)
DESCRIPTION:Howard the Duck (1986)\nA scientific experiment unknowingly brings extraterrestrial life forms to the Earth through a laser beam. First is the cigar smoking drake Howard from the duck's planet. A few kids try to keep him from the greedy scientists and help him back to his planet. But then a much less friendly being arrives through the beam...
X-ALT-DESC;FMTTYPE=text/html:<strong>Lido Cinemas: Howard the Duck (1986)</strong><p>A scientific experiment unknowingly brings extraterrestrial life forms to the Earth through a laser beam. First is the cigar smoking drake Howard from the duck's planet. A few kids try to keep him from the greedy scientists and help him back to his planet. But then a much less friendly being arrives through the beam...</p>
END:VEVENT
END:VCALENDAR