BEGIN:VCALENDAR
VERSION:2.0
PRODID:-//Chook Digital//Lido Cinemas//EN
BEGIN:VEVENT
DTSTAMP:20210227T112908Z
UID:no-reply@lidocinemas.com.au
DTSTART:20210917T140000Z
DTEND:20210917T161400Z
LOCATION:675 Glenferrie Road Hawthorn 3122
SUMMARY;LANGUAGE=en-au:Lido Cinemas: High Heels (1991)
DESCRIPTION:High Heels (1991)\nAfter being estranged for 15 years, flamboyant actress Becky del Paramo re-enters her daughter Rebecca's life when she comes to perform a concert.  Rebecca, she finds, is now married to one of Becky's ex-lovers, Manuel. The mother and daughter begin making up for lost time, when suddenly, a murder occurs...
X-ALT-DESC;FMTTYPE=text/html:<strong>Lido Cinemas: High Heels (1991)</strong><p>After being estranged for 15 years, flamboyant actress Becky del Paramo re-enters her daughter Rebecca's life when she comes to perform a concert.  Rebecca, she finds, is now married to one of Becky's ex-lovers, Manuel. The mother and daughter begin making up for lost time, when suddenly, a murder occurs...</p>
END:VEVENT
END:VCALENDAR