BEGIN:VCALENDAR
VERSION:2.0
PRODID:-//Chook Digital//Lido Cinemas//EN
BEGIN:VEVENT
DTSTAMP:20210227T113243Z
UID:no-reply@lidocinemas.com.au
DTSTART:20211124T130000Z
DTEND:20211124T130000Z
LOCATION:675 Glenferrie Road Hawthorn 3122
SUMMARY;LANGUAGE=en-au:Lido Cinemas: Ghostbusters: Afterlife
DESCRIPTION:Ghostbusters: Afterlife\nWhen a single mom and her two kids arrive in a small town, they begin to discover their connection to the original Ghostbusters and the secret legacy their grandfather left behind.
X-ALT-DESC;FMTTYPE=text/html:<strong>Lido Cinemas: Ghostbusters: Afterlife</strong><p>When a single mom and her two kids arrive in a small town, they begin to discover their connection to the original Ghostbusters and the secret legacy their grandfather left behind.</p>
END:VEVENT
END:VCALENDAR