BEGIN:VCALENDAR
VERSION:2.0
PRODID:-//Chook Digital//Lido Cinemas//EN
BEGIN:VEVENT
DTSTAMP:20210227T113409Z
UID:no-reply@lidocinemas.com.au
DTSTART:20220108T130000Z
DTEND:20220108T151600Z
LOCATION:675 Glenferrie Road Hawthorn 3122
SUMMARY;LANGUAGE=en-au:Lido Cinemas: Frenzy (1972)
DESCRIPTION:Frenzy (1972)\nA serial murderer is strangling women with a necktie. The London police have a suspect, but he is the wrong man.
X-ALT-DESC;FMTTYPE=text/html:<strong>Lido Cinemas: Frenzy (1972)</strong><p>A serial murderer is strangling women with a necktie. The London police have a suspect, but he is the wrong man.</p>
END:VEVENT
END:VCALENDAR