BEGIN:VCALENDAR
VERSION:2.0
PRODID:-//Chook Digital//Lido Cinemas//EN
BEGIN:VEVENT
DTSTAMP:20210227T113426Z
UID:no-reply@lidocinemas.com.au
DTSTART:20220519T140000Z
DTEND:20220519T140000Z
LOCATION:675 Glenferrie Road Hawthorn 3122
SUMMARY;LANGUAGE=en-au:Lido Cinemas: Free Guy
DESCRIPTION:Free Guy\nA bank teller called Guy realizes he is a background character in an open world video game called Free City that will soon go offline.
X-ALT-DESC;FMTTYPE=text/html:<strong>Lido Cinemas: Free Guy</strong><p>A bank teller called Guy realizes he is a background character in an open world video game called Free City that will soon go offline.</p>
END:VEVENT
END:VCALENDAR