BEGIN:VCALENDAR
VERSION:2.0
PRODID:-//Chook Digital//Lido Cinemas//EN
BEGIN:VEVENT
DTSTAMP:20210227T113417Z
UID:no-reply@lidocinemas.com.au
DTSTART:20220115T130000Z
DTEND:20220115T152000Z
LOCATION:675 Glenferrie Road Hawthorn 3122
SUMMARY;LANGUAGE=en-au:Lido Cinemas: Family Plot (1976)
DESCRIPTION:Family Plot (1976)\nA phoney psychic/con artist and her taxi driver/private investigator boyfriend encounter a pair of serial kidnappers while trailing a missing heir in California.
X-ALT-DESC;FMTTYPE=text/html:<strong>Lido Cinemas: Family Plot (1976)</strong><p>A phoney psychic/con artist and her taxi driver/private investigator boyfriend encounter a pair of serial kidnappers while trailing a missing heir in California.</p>
END:VEVENT
END:VCALENDAR