BEGIN:VCALENDAR
VERSION:2.0
PRODID:-//Chook Digital//Lido Cinemas//EN
BEGIN:VEVENT
DTSTAMP:20210227T113158Z
UID:no-reply@lidocinemas.com.au
DTSTART:20211111T130000Z
DTEND:20211111T151000Z
LOCATION:675 Glenferrie Road Hawthorn 3122
SUMMARY;LANGUAGE=en-au:Lido Cinemas: Dumb and Dumber (1994)
DESCRIPTION:Dumb and Dumber (1994)\nLloyd and Harry are two men whose stupidity is really indescribable. When Mary, a beautiful woman, loses an important suitcase with money before she leaves for Aspen, the two friends (who have found the suitcase) decide to return it to her. After some "adventures" they finally get to Aspen where, using the lost money they live it up and fight for Mary's heart.
X-ALT-DESC;FMTTYPE=text/html:<strong>Lido Cinemas: Dumb and Dumber (1994)</strong><p>Lloyd and Harry are two men whose stupidity is really indescribable. When Mary, a beautiful woman, loses an important suitcase with money before she leaves for Aspen, the two friends (who have found the suitcase) decide to return it to her. After some "adventures" they finally get to Aspen where, using the lost money they live it up and fight for Mary's heart.</p>
END:VEVENT
END:VCALENDAR