BEGIN:VCALENDAR
VERSION:2.0
PRODID:-//Chook Digital//Lido Cinemas//EN
BEGIN:VEVENT
DTSTAMP:20210227T112953Z
UID:no-reply@lidocinemas.com.au
DTSTART:20211002T140000Z
DTEND:20211002T160500Z
LOCATION:675 Glenferrie Road Hawthorn 3122
SUMMARY;LANGUAGE=en-au:Lido Cinemas: Dial M for Murder (1954)
DESCRIPTION:Dial M for Murder (1954)\nAn ex-tennis pro carries out a plot to have his wife murdered after discovering she is having an affair, and assumes she will soon leave him for the other man anyway. When things go wrong, he improvises a new plan—to frame her for murder instead.
X-ALT-DESC;FMTTYPE=text/html:<strong>Lido Cinemas: Dial M for Murder (1954)</strong><p>An ex-tennis pro carries out a plot to have his wife murdered after discovering she is having an affair, and assumes she will soon leave him for the other man anyway. When things go wrong, he improvises a new plan—to frame her for murder instead.</p>
END:VEVENT
END:VCALENDAR