BEGIN:VCALENDAR
VERSION:2.0
PRODID:-//Chook Digital//Lido Cinemas//EN
BEGIN:VEVENT
DTSTAMP:20210227T112901Z
UID:no-reply@lidocinemas.com.au
DTSTART:20210915T140000Z
DTEND:20210915T140000Z
LOCATION:675 Glenferrie Road Hawthorn 3122
SUMMARY;LANGUAGE=en-au:Lido Cinemas: Death on the Nile
DESCRIPTION:Death on the Nile\nAlmost everyone on the S.S.Karnak, cruising the Nile, has a reason to want heiress Linnet Ridgeway dead. Her jewels are coveted by elderly Mrs. van Schuyler, her maid is upset because Linnet won't give her a promised dowry, writer Salome Otterbourne is facing a libel suit brought by Linnet, Salome's daughter Rosalie wants to protect her mother, American Andrew Pennington has been embezzling from the Ridgeway family, and former friend Jacqueline de Bellefort is upset that Linnet stole her fiance, Simon, away from her. Belgian sleuth Hercule Poirot must unravel the mystery when Linnet (and some of the others) turn up dead.
X-ALT-DESC;FMTTYPE=text/html:<strong>Lido Cinemas: Death on the Nile</strong><p>Almost everyone on the S.S.Karnak, cruising the Nile, has a reason to want heiress Linnet Ridgeway dead. Her jewels are coveted by elderly Mrs. van Schuyler, her maid is upset because Linnet won't give her a promised dowry, writer Salome Otterbourne is facing a libel suit brought by Linnet, Salome's daughter Rosalie wants to protect her mother, American Andrew Pennington has been embezzling from the Ridgeway family, and former friend Jacqueline de Bellefort is upset that Linnet stole her fiance, Simon, away from her. Belgian sleuth Hercule Poirot must unravel the mystery when Linnet (and some of the others) turn up dead.</p>
END:VEVENT
END:VCALENDAR