BEGIN:VCALENDAR
VERSION:2.0
PRODID:-//Chook Digital//Lido Cinemas//EN
BEGIN:VEVENT
DTSTAMP:20210227T114013Z
UID:no-reply@lidocinemas.com.au
DTSTART:20210624T140000Z
DTEND:20210624T160000Z
LOCATION:675 Glenferrie Road Hawthorn 3122
SUMMARY;LANGUAGE=en-au:Lido Cinemas: Dark Habits (1983)
DESCRIPTION:Dark Habits (1983)\nAfter her drug pusher boyfriend overdoses on heroin, a cabaret singer finds refuge from the authorities in a convent for fallen women.
X-ALT-DESC;FMTTYPE=text/html:<strong>Lido Cinemas: Dark Habits (1983)</strong><p>After her drug pusher boyfriend overdoses on heroin, a cabaret singer finds refuge from the authorities in a convent for fallen women.</p>
END:VEVENT
END:VCALENDAR