BEGIN:VCALENDAR
VERSION:2.0
PRODID:-//Chook Digital//Lido Cinemas//EN
BEGIN:VEVENT
DTSTAMP:20210227T112647Z
UID:no-reply@lidocinemas.com.au
DTSTART:20210813T140000Z
DTEND:20210813T154500Z
LOCATION:675 Glenferrie Road Hawthorn 3122
SUMMARY;LANGUAGE=en-au:Lido Cinemas: Cezanne: Portraits of a Life
DESCRIPTION:Cezanne: Portraits of a Life\n
X-ALT-DESC;FMTTYPE=text/html:<strong>Lido Cinemas: Cezanne: Portraits of a Life</strong><p></p>
END:VEVENT
END:VCALENDAR